BEGIN:VCALENDAR
VERSION:2.0
PRODID:-//Hypatia&#039;s Voice - ECPv6.8.3//NONSGML v1.0//EN
CALSCALE:GREGORIAN
METHOD:PUBLISH
X-ORIGINAL-URL:https://staging-wp203905.wpdns.ca
X-WR-CALDESC:Events for Hypatia&#039;s Voice
REFRESH-INTERVAL;VALUE=DURATION:PT1H
X-Robots-Tag:noindex
X-PUBLISHED-TTL:PT1H
BEGIN:VTIMEZONE
TZID:America/Toronto
BEGIN:DAYLIGHT
TZOFFSETFROM:-0500
TZOFFSETTO:-0400
TZNAME:EDT
DTSTART:20150308T070000
END:DAYLIGHT
BEGIN:STANDARD
TZOFFSETFROM:-0400
TZOFFSETTO:-0500
TZNAME:EST
DTSTART:20151101T060000
END:STANDARD
END:VTIMEZONE
BEGIN:VEVENT
DTSTART;TZID=America/Toronto:20151025T193000
DTEND;TZID=America/Toronto:20151025T210000
DTSTAMP:20260421T225842
CREATED:20151025T233004Z
LAST-MODIFIED:20230926T195215Z
UID:2053-1445801400-1445806800@staging-wp203905.wpdns.ca
SUMMARY:Holst: Choral Hymns from the Rig Veda and other Celestial Interpretations
DESCRIPTION:A note from the Artistic Director \n\n\n\nHypatia (c. 370-415c.e.) was a Greek mathematician\, philosopher\, astronomer\, teacher\, and head of the Neoplatonic school of Philosophy. At a time when women were considered little more than property\, Hypatia flourished\, freely sharing her teachings to many who travelled great distances to hear her\, and promoting independent thought and access to education for all. \n\n\n\nIt’s my great delight to welcome you tonight to hear this fine ensemble of women who have come to discover together new levels of our musical potential. We are honoured to share this momentous night with you\, and hope you enjoy the inaugural concert of Hypatia’s Voice Women’s Choir. \n\n\n\n\n\n\nOctober 25\, 2015 at 7:30pmDominion-Chalmers United Church355 Cooper St\, Ottawa \n\n\n\nAccompanist: Claire StevensHarp: Michelle Gott \n\n\n\nPerformance Pieces \n\n\n\n1Ikon of Saint HildaJohn TavenerLibrary Sponsorship: Anonymous Patron2Choral Hymns from the Rig Veda Group 3Gustav HolstHarp: Michelle GottLibrary Sponsorship: Anonymous Patron       I Hymn to the Dawn       II Hymn to the Waters       III Hymn to Vena (The Sun Rising Through The Mist)       IV Hymn of the Travellers3Lux BenignaPaul MealorLibrary Sponsorship: Anonymous Patron4A Light Exists in SpringTarik O’ReganLibrary Sponsorship: Anonymous Patron5Song of the StarsBob ChilcottLibrary Sponsorship: Anonymous Patron6StarsSheldon RoseLibrary Sponsorship: Anonymous Patron7The Dawn is not DistantChristine DonkinLibrary Sponsorship: Anonymous Patron
URL:https://staging-wp203905.wpdns.ca/event/holst-choral-hymns-from-the-rig-veda-and-other-celestial-interpretations/
LOCATION:Dominion-Chalmers United Church\, 355 Cooper St\, Ottawa
CATEGORIES:All
ATTACH;FMTTYPE=image/jpeg:https://staging-wp203905.wpdns.ca/wp-content/uploads/2016/09/holst-site-icon-1.jpg
END:VEVENT
END:VCALENDAR