BEGIN:VCALENDAR
VERSION:2.0
PRODID:-//Hypatia&#039;s Voice - ECPv6.8.3//NONSGML v1.0//EN
CALSCALE:GREGORIAN
METHOD:PUBLISH
X-ORIGINAL-URL:https://staging-wp203905.wpdns.ca
X-WR-CALDESC:Events for Hypatia&#039;s Voice
REFRESH-INTERVAL;VALUE=DURATION:PT1H
X-Robots-Tag:noindex
X-PUBLISHED-TTL:PT1H
BEGIN:VTIMEZONE
TZID:America/Toronto
BEGIN:DAYLIGHT
TZOFFSETFROM:-0500
TZOFFSETTO:-0400
TZNAME:EDT
DTSTART:20230312T070000
END:DAYLIGHT
BEGIN:STANDARD
TZOFFSETFROM:-0400
TZOFFSETTO:-0500
TZNAME:EST
DTSTART:20231105T060000
END:STANDARD
END:VTIMEZONE
BEGIN:VEVENT
DTSTART;TZID=America/Toronto:20231125T193000
DTEND;TZID=America/Toronto:20231125T210000
DTSTAMP:20260421T162035
CREATED:20231011T233300Z
LAST-MODIFIED:20231022T180403Z
UID:2593-1700940600-1700946000@staging-wp203905.wpdns.ca
SUMMARY:Women Composers Through Space and Time
DESCRIPTION:
URL:https://staging-wp203905.wpdns.ca/event/women-composers-through-space-and-time/
LOCATION:First Baptist Church\, 140 Laurier Ave West\, Ottawa\, Ontario\, Canada
CATEGORIES:2023-2024 Season
ATTACH;FMTTYPE=image/jpeg:https://staging-wp203905.wpdns.ca/wp-content/uploads/2023/09/Untitled-design-2.jpg
END:VEVENT
END:VCALENDAR